BEGIN:VCALENDAR
VERSION:2.0
PRODID:-//Maine DeMolay - ECPv6.14.2//NONSGML v1.0//EN
CALSCALE:GREGORIAN
METHOD:PUBLISH
X-WR-CALNAME:Maine DeMolay
X-ORIGINAL-URL:https://wp.medemolay.org
X-WR-CALDESC:Events for Maine DeMolay
REFRESH-INTERVAL;VALUE=DURATION:PT1H
X-Robots-Tag:noindex
X-PUBLISHED-TTL:PT1H
BEGIN:VTIMEZONE
TZID:America/New_York
BEGIN:DAYLIGHT
TZOFFSETFROM:-0500
TZOFFSETTO:-0400
TZNAME:EDT
DTSTART:20240310T070000
END:DAYLIGHT
BEGIN:STANDARD
TZOFFSETFROM:-0400
TZOFFSETTO:-0500
TZNAME:EST
DTSTART:20241103T060000
END:STANDARD
END:VTIMEZONE
BEGIN:VEVENT
DTSTART;VALUE=DATE:20240719
DTEND;VALUE=DATE:20240722
DTSTAMP:20260423T004924
CREATED:20240615T122044Z
LAST-MODIFIED:20240615T122044Z
UID:10000069-1721347200-1721606399@wp.medemolay.org
SUMMARY:Maine DeMolay Conclave 2024
DESCRIPTION:Join Maine DeMolay for our premier weekend of the year.  This is the weekend that the DeMolay Brothers all look forward to all year long!\nRitual Competition \nAthletics \nIce Cream Social \nBrotherhood \nPriory Investiture \n2024 State Officer Installation
URL:https://wp.medemolay.org/event/maine-demolay-conclave-2024/
LOCATION:Husson University\, 1 College Circle\, Bangor\, 04401\, United States
ORGANIZER;CN="Maine DeMolay":MAILTO:eo@medemolay.org
END:VEVENT
END:VCALENDAR